BEGIN:VCALENDAR
VERSION:2.0
PRODID:ShowClix//ShowClix//EN
BEGIN:VTIMEZONE
TZID:America/New_York
BEGIN:STANDARD
DTSTART:20261101T060000
TZOFFSETFROM:-0400
TZOFFSETTO:-0500
TZNAME:EST
END:STANDARD
BEGIN:DAYLIGHT
DTSTART:20270314T070000
TZOFFSETFROM:-0500
TZOFFSETTO:-0400
TZNAME:EDT
END:DAYLIGHT
END:VTIMEZONE
BEGIN:VEVENT
DTSTART;TZID=America/New_York:20260605T193000
SUMMARY:Elvis &amp; Elton John Tribute
DESCRIPTION:Show details available at https://events.leapevents.com/event/the-king-queen-of-rock-roll-elvis-presley-elton-john-tribute
LOCATION:Meyer Theater
GEO:41.916586;-83.469073
END:VEVENT
END:VCALENDAR
