BEGIN:VCALENDAR
VERSION:2.0
PRODID:ShowClix//ShowClix//EN
BEGIN:VTIMEZONE
TZID:America/Los_Angeles
BEGIN:STANDARD
DTSTART:20261101T090000
TZOFFSETFROM:-0700
TZOFFSETTO:-0800
TZNAME:PST
END:STANDARD
BEGIN:DAYLIGHT
DTSTART:20270314T100000
TZOFFSETFROM:-0800
TZOFFSETTO:-0700
TZNAME:PDT
END:DAYLIGHT
END:VTIMEZONE
BEGIN:VEVENT
DTSTART;TZID=America/Los_Angeles:20260717T214500
DTEND;TZID=America/Los_Angeles:20260717T231500
SUMMARY:&ldquo;Tacos vs Arepas&rdquo; Comedia en Espanol
DESCRIPTION:Show details available at https://events.leapevents.com/event/tacos-vs-arepas-07-17-26-9-45-pm
LOCATION:The Ice House California Room
GEO:34.146661;-118.130758
END:VEVENT
END:VCALENDAR
