BEGIN:VCALENDAR
VERSION:2.0
PRODID:ShowClix//ShowClix//EN
BEGIN:VTIMEZONE
TZID:America/Chicago
BEGIN:STANDARD
DTSTART:20261101T070000
TZOFFSETFROM:-0500
TZOFFSETTO:-0600
TZNAME:CST
END:STANDARD
BEGIN:DAYLIGHT
DTSTART:20270314T080000
TZOFFSETFROM:-0600
TZOFFSETTO:-0500
TZNAME:CDT
END:DAYLIGHT
END:VTIMEZONE
BEGIN:VEVENT
DTSTART;TZID=America/Chicago:20260509T190000
DTEND;TZID=America/Chicago:20260509T223000
SUMMARY:SUPER FIGHT NIGHT DUNCAN 2026
DESCRIPTION:Show details available at https://events.leapevents.com/event/super-fight-night-duncan-2026
LOCATION:STEPHENS COUNTY FAIRGROUNDS
GEO:34.497542;-97.964598
END:VEVENT
END:VCALENDAR
