BEGIN:VCALENDAR
VERSION:2.0
PRODID:ShowClix//ShowClix//EN
BEGIN:VTIMEZONE
TZID:America/Chicago
BEGIN:STANDARD
DTSTART:20261101T070000
TZOFFSETFROM:-0500
TZOFFSETTO:-0600
TZNAME:CST
END:STANDARD
BEGIN:DAYLIGHT
DTSTART:20270314T080000
TZOFFSETFROM:-0600
TZOFFSETTO:-0500
TZNAME:CDT
END:DAYLIGHT
END:VTIMEZONE
BEGIN:VEVENT
DTSTART;TZID=America/Chicago:20260425T090000
SUMMARY:Silvis Train Days &amp; Classic Cars 2026 Shop Admission
DESCRIPTION:Show details available at https://events.leapevents.com/event/silvis-train-days-classic-cars-2026
LOCATION:RRHMA-Silvis
GEO:41.511216;-90.399093
END:VEVENT
END:VCALENDAR
