BEGIN:VCALENDAR
VERSION:2.0
PRODID:ShowClix//ShowClix//EN
BEGIN:VTIMEZONE
TZID:America/Denver
BEGIN:STANDARD
DTSTART:20261101T080000
TZOFFSETFROM:-0600
TZOFFSETTO:-0700
TZNAME:MST
END:STANDARD
BEGIN:DAYLIGHT
DTSTART:20270314T090000
TZOFFSETFROM:-0700
TZOFFSETTO:-0600
TZNAME:MDT
END:DAYLIGHT
END:VTIMEZONE
BEGIN:VEVENT
DTSTART;TZID=America/Denver:20260507T190000
SUMMARY:Salt &amp; Light Radio Presents: Sarah Kroger
DESCRIPTION:Show details available at https://events.leapevents.com/event/salt-light-radio-sarah-kroger-05-07-26
LOCATION:The Egyptian Theatre - Boise
GEO:43.615387;-116.202383
END:VEVENT
END:VCALENDAR
