BEGIN:VCALENDAR
VERSION:2.0
PRODID:ShowClix//ShowClix//EN
BEGIN:VTIMEZONE
TZID:America/New_York
BEGIN:STANDARD
DTSTART:20261101T060000
TZOFFSETFROM:-0400
TZOFFSETTO:-0500
TZNAME:EST
END:STANDARD
BEGIN:DAYLIGHT
DTSTART:20270314T070000
TZOFFSETFROM:-0500
TZOFFSETTO:-0400
TZNAME:EDT
END:DAYLIGHT
END:VTIMEZONE
BEGIN:VEVENT
DTSTART;TZID=America/New_York:20260502T150000
DTEND;TZID=America/New_York:20260502T170000
SUMMARY:CLASSICAL GUITAR FROM LATIN AMERICA
DESCRIPTION:Show details available at https://events.leapevents.com/event/pcgs26-awvj3rl1knl1dtn1jma0cjlapeujiheruxoyhnwavwklf
LOCATION:Teatro Esperanza
GEO:40.002799;-75.137847
END:VEVENT
END:VCALENDAR
