BEGIN:VCALENDAR
VERSION:2.0
PRODID:ShowClix//ShowClix//EN
BEGIN:VTIMEZONE
TZID:America/Denver
BEGIN:STANDARD
DTSTART:20261101T080000
TZOFFSETFROM:-0600
TZOFFSETTO:-0700
TZNAME:MST
END:STANDARD
BEGIN:DAYLIGHT
DTSTART:20270314T090000
TZOFFSETFROM:-0700
TZOFFSETTO:-0600
TZNAME:MDT
END:DAYLIGHT
END:VTIMEZONE
BEGIN:VEVENT
DTSTART;TZID=America/Denver:20260801T180000
DTEND;TZID=America/Denver:20260801T230000
SUMMARY:Outriders present NICK SHOULDERS at Majestic Saloon
DESCRIPTION:Show details available at https://events.leapevents.com/event/outriders-present-nick-shoulders-majestic-2026
LOCATION:Majestic Saloon
GEO:48.289528;-114.332436
END:VEVENT
END:VCALENDAR
