BEGIN:VCALENDAR
VERSION:2.0
PRODID:ShowClix//ShowClix//EN
BEGIN:VTIMEZONE
TZID:America/New_York
BEGIN:DAYLIGHT
DTSTART:20270314T070000
TZOFFSETFROM:-0500
TZOFFSETTO:-0400
TZNAME:EDT
END:DAYLIGHT
END:VTIMEZONE
BEGIN:VEVENT
DTSTART;TZID=America/New_York:20261106T193000
SUMMARY:LIVEWIRE - The Ultimate AC/DC Experience
DESCRIPTION:Show details available at https://events.leapevents.com/event/livewire-ac-dc-experience
LOCATION:The Oaks Theater
GEO:40.515424;-79.842921
END:VEVENT
END:VCALENDAR
