BEGIN:VCALENDAR
VERSION:2.0
PRODID:ShowClix//ShowClix//EN
BEGIN:VTIMEZONE
TZID:America/Edmonton
BEGIN:STANDARD
DTSTART:20261101T080000
TZOFFSETFROM:-0600
TZOFFSETTO:-0700
TZNAME:MST
END:STANDARD
BEGIN:DAYLIGHT
DTSTART:20270314T090000
TZOFFSETFROM:-0700
TZOFFSETTO:-0600
TZNAME:MDT
END:DAYLIGHT
END:VTIMEZONE
BEGIN:VEVENT
DTSTART;TZID=America/Edmonton:20260524T200000
SUMMARY:The Fray &ndash; Summer Of Light Tour
DESCRIPTION:Show details available at https://events.leapevents.com/event/live-nation-presents-the-fray
LOCATION:MacEwan Hall
GEO:51.075789;-114.128915
END:VEVENT
END:VCALENDAR
