BEGIN:VCALENDAR
VERSION:2.0
PRODID:ShowClix//ShowClix//EN
BEGIN:VTIMEZONE
TZID:America/Edmonton
BEGIN:STANDARD
DTSTART:20261101T080000
TZOFFSETFROM:-0600
TZOFFSETTO:-0700
TZNAME:MST
END:STANDARD
BEGIN:DAYLIGHT
DTSTART:20270314T090000
TZOFFSETFROM:-0700
TZOFFSETTO:-0600
TZNAME:MDT
END:DAYLIGHT
END:VTIMEZONE
BEGIN:VEVENT
DTSTART;TZID=America/Edmonton:20260507T200000
SUMMARY:Live Nation Presents: Asim Azhar
DESCRIPTION:Show details available at https://events.leapevents.com/event/live-nation-presents-asim-azhar
LOCATION:MacEwan Ballroom
GEO:51.078093;-114.131546
END:VEVENT
END:VCALENDAR
