BEGIN:VCALENDAR
VERSION:2.0
PRODID:ShowClix//ShowClix//EN
BEGIN:VTIMEZONE
TZID:America/New_York
BEGIN:STANDARD
DTSTART:20261101T060000
TZOFFSETFROM:-0400
TZOFFSETTO:-0500
TZNAME:EST
END:STANDARD
BEGIN:DAYLIGHT
DTSTART:20270314T070000
TZOFFSETFROM:-0500
TZOFFSETTO:-0400
TZNAME:EDT
END:DAYLIGHT
END:VTIMEZONE
BEGIN:VEVENT
DTSTART;TZID=America/New_York:20260502T220000
DTEND;TZID=America/New_York:20260516T220000
SUMMARY:LIPSTICK LASHES
DESCRIPTION:Show details available at https://events.leapevents.com/event/lipstick-lashes-may2026
LOCATION:COMEDY CLUB
GEO:41.492537;-72.096114
END:VEVENT
END:VCALENDAR
