BEGIN:VCALENDAR
VERSION:2.0
PRODID:ShowClix//ShowClix//EN
BEGIN:VTIMEZONE
TZID:America/Los_Angeles
BEGIN:STANDARD
DTSTART:20261101T090000
TZOFFSETFROM:-0700
TZOFFSETTO:-0800
TZNAME:PST
END:STANDARD
BEGIN:DAYLIGHT
DTSTART:20270314T100000
TZOFFSETFROM:-0800
TZOFFSETTO:-0700
TZNAME:PDT
END:DAYLIGHT
END:VTIMEZONE
BEGIN:VEVENT
DTSTART;TZID=America/Los_Angeles:20260425T223000
SUMMARY:Late Night in the Main Room - Sarah Tiana, Francisco Ramos, Dave Helem, Eleanor Kerrigan, Zack Chapaloni, Stephen Furey, Dave Waite, Jackson Banks, Earl Skakel
DESCRIPTION:Show details available at https://events.leapevents.com/event/late-night-2026-april25th
LOCATION:Comedy Store - Main Room
GEO:34.096891;-118.285360
END:VEVENT
END:VCALENDAR
