BEGIN:VCALENDAR
VERSION:2.0
PRODID:ShowClix//ShowClix//EN
BEGIN:VTIMEZONE
TZID:America/New_York
BEGIN:STANDARD
DTSTART:20261101T060000
TZOFFSETFROM:-0400
TZOFFSETTO:-0500
TZNAME:EST
END:STANDARD
BEGIN:DAYLIGHT
DTSTART:20270314T070000
TZOFFSETFROM:-0500
TZOFFSETTO:-0400
TZNAME:EDT
END:DAYLIGHT
END:VTIMEZONE
BEGIN:VEVENT
DTSTART;TZID=America/New_York:20261001T190000
SUMMARY:Ken Karsh Trio - 2026 Studio Jazz
DESCRIPTION:Show details available at https://events.leapevents.com/event/ken-karsh-trio-2026-studio-jazz
LOCATION:Andrew Carnegie Free Library &amp; Music Hall - Studio
GEO:40.407759;-80.085279
END:VEVENT
END:VCALENDAR
