BEGIN:VCALENDAR
VERSION:2.0
PRODID:ShowClix//ShowClix//EN
BEGIN:VTIMEZONE
TZID:America/Los_Angeles
BEGIN:STANDARD
DTSTART:20261101T090000
TZOFFSETFROM:-0700
TZOFFSETTO:-0800
TZNAME:PST
END:STANDARD
BEGIN:DAYLIGHT
DTSTART:20270314T100000
TZOFFSETFROM:-0800
TZOFFSETTO:-0700
TZNAME:PDT
END:DAYLIGHT
END:VTIMEZONE
BEGIN:VEVENT
DTSTART;TZID=America/Los_Angeles:20260426T190000
SUMMARY:100% Fresh with Comedians Sara Weinshenk and Erica Rhodes - Shapel Lacey, Miranda Meadows, Leah Rudick, Jessie &quot;Jetski&quot; Johnson, Christina Mariani  +more!
DESCRIPTION:Show details available at https://events.leapevents.com/event/fresh-2026-april
LOCATION:Comedy Store - Belly Room
GEO:34.096891;-118.285360
END:VEVENT
END:VCALENDAR
