BEGIN:VCALENDAR
VERSION:2.0
PRODID:ShowClix//ShowClix//EN
BEGIN:VTIMEZONE
TZID:America/New_York
BEGIN:STANDARD
DTSTART:20261101T060000
TZOFFSETFROM:-0400
TZOFFSETTO:-0500
TZNAME:EST
END:STANDARD
BEGIN:DAYLIGHT
DTSTART:20270314T070000
TZOFFSETFROM:-0500
TZOFFSETTO:-0400
TZNAME:EDT
END:DAYLIGHT
END:VTIMEZONE
BEGIN:VEVENT
DTSTART;TZID=America/New_York:20260425T120000
DTEND;TZID=America/New_York:20260425T140000
SUMMARY:Some American Dreams: Conversation with Zindzi Harley and Hilde Nelson
DESCRIPTION:Show details available at https://events.leapevents.com/event/conversation-with-zindzi-harley-and-hilde-nelson
LOCATION:The Fabric Workshop and Museum
GEO:39.953623;-75.160264
END:VEVENT
END:VCALENDAR
