BEGIN:VCALENDAR
VERSION:2.0
PRODID:ShowClix//ShowClix//EN
BEGIN:VTIMEZONE
TZID:America/New_York
BEGIN:STANDARD
DTSTART:20261101T060000
TZOFFSETFROM:-0400
TZOFFSETTO:-0500
TZNAME:EST
END:STANDARD
BEGIN:DAYLIGHT
DTSTART:20270314T070000
TZOFFSETFROM:-0500
TZOFFSETTO:-0400
TZNAME:EDT
END:DAYLIGHT
END:VTIMEZONE
BEGIN:VEVENT
DTSTART;TZID=America/New_York:20260606T180000
SUMMARY:Summer Blue Monk Night
DESCRIPTION:Show details available at https://events.leapevents.com/event/blue-monk-night-
LOCATION:The Terrace at Delaware Park
GEO:42.932185;-78.873244
END:VEVENT
END:VCALENDAR
