BEGIN:VCALENDAR
VERSION:2.0
PRODID:ShowClix//ShowClix//EN
BEGIN:VTIMEZONE
TZID:America/New_York
BEGIN:STANDARD
DTSTART:20261101T060000
TZOFFSETFROM:-0400
TZOFFSETTO:-0500
TZNAME:EST
END:STANDARD
BEGIN:DAYLIGHT
DTSTART:20270314T070000
TZOFFSETFROM:-0500
TZOFFSETTO:-0400
TZNAME:EDT
END:DAYLIGHT
END:VTIMEZONE
BEGIN:VEVENT
DTSTART;TZID=America/New_York:20260518T190000
DTEND;TZID=America/New_York:20260518T190000
SUMMARY:A Night of Comedy to Benefit Hofstra Soccer
DESCRIPTION:Show details available at https://events.leapevents.com/event/a-night-of-comedy-to-benefit-hofstra-soccer
LOCATION:Gotham Comedy Club - Main Showroom
GEO:40.744138;-73.996440
END:VEVENT
END:VCALENDAR
